BEGIN:VCALENDAR
VERSION:2.0
PRODID:-//Timepad Ltd.//NONSGML Timepad//RU
METHOD:REQUEST
BEGIN:VEVENT
UID:20260423T111936-1512375286-example.com
DTSTAMP:20260423T111936
DTSTART:20190415T160000Z
DTEND:20190418T160000Z
ORGANIZER;CN=STEP LOGIC:mailto:info@step.ru
SUMMARY:Innovation Summit 2019
DESCRIPTION: STEP LOGIC experts will participate in the industry event of the Schneider  Electric – Innovation Summit 2019, which will be held 15–18 April at the Expocentre Fairgrounds in Moscow.    I...
END:VEVENT
END:VCALENDAR
