BEGIN:VCALENDAR
VERSION:2.0
PRODID:-//Timepad Ltd.//NONSGML Timepad//RU
METHOD:REQUEST
BEGIN:VEVENT
UID:20260421T131152-504021772-example.com
DTSTAMP:20260421T131152
DTSTART:20180925T210000Z
DTEND:20180925T210000Z
ORGANIZER;CN=STEP LOGIC:mailto:info@step.ru
SUMMARY:IT in industry 2018
DESCRIPTION: STEP LOGIC representatives are going to take place in the annual TAdviser  conference IT in Industry 2018. The event will take place at the Mercure Moscow Paveletskaya hotel on September 26.   All over the world, the industry is being transformed by digital technol...
END:VEVENT
END:VCALENDAR
