BEGIN:VCALENDAR
VERSION:2.0
PRODID:-//Timepad Ltd.//NONSGML Timepad//RU
METHOD:REQUEST
BEGIN:VEVENT
UID:20260423T110401-356253122-example.com
DTSTAMP:20260423T110401
DTSTART:20180913T210000Z
DTEND:20180913T210000Z
ORGANIZER;CN=STEP LOGIC:mailto:info@step.ru
SUMMARY:BUSINESS INFORMATION SECURITY SUMMIT 2018
DESCRIPTION: STEP LOGIC experts will participate in the BUSINESS INFORMATION SECURITY  SUMMIT 2018 (BIS SUMMIT 2018), which is to be held on the 14th of September at the Ukraina Hotel Congress Park.   The key theme of the summit is the convergence of information secur...
END:VEVENT
END:VCALENDAR
