BEGIN:VCALENDAR
VERSION:2.0
PRODID:-//Timepad Ltd.//NONSGML Timepad//RU
METHOD:REQUEST
BEGIN:VEVENT
UID:20260421T130851-790076064-example.com
DTSTAMP:20260421T130851
DTSTART:20161109T210000Z
ORGANIZER;CN=STEP LOGIC:mailto:info@step.ru
SUMMARY:CNews Forum 2016: Information Technologies of Tomorrow
DESCRIPTION: On November 10, the annual event, CNews Forum 2016: Information Technologies  of Tomorrow, took place in Moscow.   As part of the ninth annual event, representatives of business, government  agencies, IT companies as well as independent experts and analysts took part in the discussio...
END:VEVENT
END:VCALENDAR
