BEGIN:VCALENDAR
VERSION:2.0
PRODID:-//Timepad Ltd.//NONSGML Timepad//RU
METHOD:REQUEST
BEGIN:VEVENT
UID:20260421T111947-298560122-example.com
DTSTAMP:20260421T111947
DTSTART:20160606T210000Z
ORGANIZER;CN=STEP LOGIC:mailto:info@step.ru
SUMMARY:XIII Russian IT Management Forum
DESCRIPTION: On June 7, Step Logic participated in the Russian IT Management Forum in  Moscow.   The IT service of a modern Russian company faces numerous complex challenges.  How to ensure development in the context of budget cuts? How to support business initiatives for digital transformation ...
END:VEVENT
END:VCALENDAR
